BEGIN:VCALENDAR
VERSION:2.0
PRODID:-//hacksw/handcal//NONSGML v1.0//EN
BEGIN:VEVENT
UID:471509b08be5c48eab825f53f4a6adc9
DTSTAMP:20260419T172058Z

DTSTART:20221121T203000
DTEND:20221121T203000
SUMMARY:יש לך תכנית איך ממשיכים מכאן? הדרך לשיפור מהיר - פרק אחרון
DESCRIPTION:quix

X-ALT-DESC;FMTTYPE=text/html:<!DOCTYPE HTML PUBLIC "-//W3C//DTD HTML 3.2//EN">\n<HTML>\n<HEAD>\n<META NAME="Generator" CONTENT="MS Exchange Server version 08.00.0681.000">\n<TITLE></TITLE>\n</HEAD>\n<BODY>\n<!-- Converted from text/rtf format -->\n\n<p>quix</p>\n\n</BODY>\n</HTML>

LOCATION:
END:VEVENT

END:VCALENDAR
