BEGIN:VCALENDAR
VERSION:2.0
PRODID:-//hacksw/handcal//NONSGML v1.0//EN
BEGIN:VEVENT
UID:6cd56e6b84d93997ca59e3cf5ed5ce9d
DTSTAMP:20260419T171835Z

DTSTART:20211208T180000
DTEND:20211208T180000
SUMMARY:הסדנא הפעילה לתרגול ושיפור ההצגה האישית שלך
DESCRIPTION:החלק המעשי של התכנית: אין הזדמנות שנייה להצגה אישית יעילה ומומלץ להשתתף קודם בהרצאה:עולם העבודה החדש כבר כאן. מה שצריך להכיר בכדי להצליח עכשיו אז בסדנא הפעילה הזו יקרה לך נס:הנוסחא לבניית הצגה אישית יעילההסיבה העקרית לבחור דווקא בךתרגול אישי מונחה בקבוצה מצומצמתועוד מגוון הפתעות וטריקים   לפרטים - כאן.

X-ALT-DESC;FMTTYPE=text/html:<!DOCTYPE HTML PUBLIC "-//W3C//DTD HTML 3.2//EN">\n<HTML>\n<HEAD>\n<META NAME="Generator" CONTENT="MS Exchange Server version 08.00.0681.000">\n<TITLE></TITLE>\n</HEAD>\n<BODY>\n<!-- Converted from text/rtf format -->\n\n<p>החלק המעשי של התכנית: אין הזדמנות שנייה להצגה אישית יעילה ומומלץ להשתתף קודם בהרצאה:עולם העבודה החדש כבר כאן. מה שצריך להכיר בכדי להצליח עכשיו אז בסדנא הפעילה הזו יקרה לך נס:הנוסחא לבניית הצגה אישית יעילההסיבה העקרית לבחור דווקא בךתרגול אישי מונחה בקבוצה מצומצמתועוד מגוון הפתעות וטריקים   לפרטים - כאן.</p>\n\n</BODY>\n</HTML>

LOCATION:
END:VEVENT

END:VCALENDAR
