BEGIN:VCALENDAR
VERSION:2.0
PRODID:-//hacksw/handcal//NONSGML v1.0//EN
BEGIN:VEVENT
UID:56189b5ef9123b4ef64df95357d77f33
DTSTAMP:20260420T022950Z

DTSTART:20210721T193000
DTEND:20210721T193000
SUMMARY:עולם העבודה החדש כבר כאן.  מה שצריך להכיר בכדי להצליח עכשיו
DESCRIPTION:עולם העבודה החדש כבר כאן. והוא לא דומה למה שהכרת עד עכשיו, במיוחד אם עברת את גיל 40. "השגרה החדשה" תלווה אותנו בתקופה הבאה וכדאי להכיר ולהבין בכדי להצליח.   ההרצאה היא החלק הראשון של: הסדנא הפעילה לשיפור ההצגה האישית שלך.   אין סיבה לתרגל אם לא יודעים מה רוצים להשיג ולמה.  לכן, ההרצאה הזו הכרחית כדי שהתרגול שלך יהיה מוצלח ויעיל. וכשיהיה לך משפט הצגה אישית יעיל, הזדמנויות רבות יתחילו להגיע אלייך. לך ישאר לבחור את אלה שמתאימות לך.  עסקה משתלמת.   הפרטים החשובים: נושאי ההרצאה מפורטים בדף המידע על הסדנא. מועד ההרצאה: נמצא בתחילת הדף משך ההרצאה: 90 דקות שאלות ותשובות לאחר ההרצאה עלות ההשתתפות:  מפורט בהמשך. אפשר לבחור בין תשלום לכל החבילה, או - הרצאה ותרגול, בנפרד. הנחה ניתנת לאלה שרוכשים את החבילה המלאה. חוות דעת והצלחות של אלה שהשתתפו בסדנא - בדף המידע

X-ALT-DESC;FMTTYPE=text/html:<!DOCTYPE HTML PUBLIC "-//W3C//DTD HTML 3.2//EN">\n<HTML>\n<HEAD>\n<META NAME="Generator" CONTENT="MS Exchange Server version 08.00.0681.000">\n<TITLE></TITLE>\n</HEAD>\n<BODY>\n<!-- Converted from text/rtf format -->\n\nעולם העבודה החדש כבר כאן. והוא לא דומה למה שהכרת עד עכשיו, במיוחד אם עברת את גיל 40. "השגרה החדשה" תלווה אותנו בתקופה הבאה וכדאי להכיר ולהבין בכדי להצליח.   ההרצאה היא החלק הראשון של: הסדנא הפעילה לשיפור ההצגה האישית שלך.   אין סיבה לתרגל אם לא יודעים מה רוצים להשיג ולמה.  לכן, ההרצאה הזו הכרחית כדי שהתרגול שלך יהיה מוצלח ויעיל. וכשיהיה לך משפט הצגה אישית יעיל, הזדמנויות רבות יתחילו להגיע אלייך. לך ישאר לבחור את אלה שמתאימות לך.  עסקה משתלמת.   הפרטים החשובים: נושאי ההרצאה מפורטים בדף המידע על הסדנא. מועד ההרצאה: נמצא בתחילת הדף משך ההרצאה: 90 דקות שאלות ותשובות לאחר ההרצאה עלות ההשתתפות:  מפורט בהמשך. אפשר לבחור בין תשלום לכל החבילה, או - הרצאה ותרגול, בנפרד. הנחה ניתנת לאלה שרוכשים את החבילה המלאה. חוות דעת והצלחות של אלה שהשתתפו בסדנא - בדף המידע\n\n</BODY>\n</HTML>

LOCATION:
END:VEVENT

END:VCALENDAR
